BEGIN:VCALENDAR
VERSION:2.0
PRODID:-//Kinder &amp; Jugend Marketing Kontor - ECPv6.15.20//NONSGML v1.0//EN
CALSCALE:GREGORIAN
METHOD:PUBLISH
X-WR-CALNAME:Kinder &amp; Jugend Marketing Kontor
X-ORIGINAL-URL:https://kjmk.de
X-WR-CALDESC:Veranstaltungen für Kinder &amp; Jugend Marketing Kontor
REFRESH-INTERVAL;VALUE=DURATION:PT1H
X-Robots-Tag:noindex
X-PUBLISHED-TTL:PT1H
BEGIN:VTIMEZONE
TZID:Europe/Berlin
BEGIN:DAYLIGHT
TZOFFSETFROM:+0100
TZOFFSETTO:+0200
TZNAME:CEST
DTSTART:20240331T010000
END:DAYLIGHT
BEGIN:STANDARD
TZOFFSETFROM:+0200
TZOFFSETTO:+0100
TZNAME:CET
DTSTART:20241027T010000
END:STANDARD
BEGIN:DAYLIGHT
TZOFFSETFROM:+0100
TZOFFSETTO:+0200
TZNAME:CEST
DTSTART:20250330T010000
END:DAYLIGHT
BEGIN:STANDARD
TZOFFSETFROM:+0200
TZOFFSETTO:+0100
TZNAME:CET
DTSTART:20251026T010000
END:STANDARD
BEGIN:DAYLIGHT
TZOFFSETFROM:+0100
TZOFFSETTO:+0200
TZNAME:CEST
DTSTART:20260329T010000
END:DAYLIGHT
BEGIN:STANDARD
TZOFFSETFROM:+0200
TZOFFSETTO:+0100
TZNAME:CET
DTSTART:20261025T010000
END:STANDARD
END:VTIMEZONE
BEGIN:VEVENT
DTSTART;VALUE=DATE:20251120
DTEND;VALUE=DATE:20251121
DTSTAMP:20260422T123137
CREATED:20230628T134346Z
LAST-MODIFIED:20241209T154916Z
UID:10000261-1763596800-1763683199@kjmk.de
SUMMARY:Weltkindertag
DESCRIPTION:Weltkindertag\nAm 20. November begehen die Vereinten Nationen den Weltkindertag als Internationalen Tag der Kinderrechte. An diesem Tag im Jahr 1989 verabschiedete die Generalversammlung der Vereinten Nationen die Konvention über die Rechte des Kindes. \n			\n			\n				\n				\n				\n				\n				\n				\n				\n				\n				\n				\n			\n			\n				\n				\n				\n				\n			\n				\n				\n			\n\n\n\n\n\n\n\n\n\n 
URL:https://kjmk.de/event/weltkindertag-2/
LOCATION:Deutschlandweit
CATEGORIES:Events für Kinder und Jugendliche
ATTACH;FMTTYPE=image/webp:https://kjmk.de/wp-content/uploads/Q_photocase_3270983_livcool.webp
END:VEVENT
BEGIN:VEVENT
DTSTART;VALUE=DATE:20251105
DTEND;VALUE=DATE:20251106
DTSTAMP:20260422T123137
CREATED:20230628T132841Z
LAST-MODIFIED:20241209T155105Z
UID:10000259-1762300800-1762387199@kjmk.de
SUMMARY:Internationaler Tag des Freiwilligenmanagements
DESCRIPTION:
URL:https://kjmk.de/event/internationaler-tag-des-freiwilligenmanagements/
LOCATION:Deutschlandweit
CATEGORIES:Events für Kinder und Jugendliche
ATTACH;FMTTYPE=image/webp:https://kjmk.de/wp-content/uploads/Q_photocase_8bpn7767k6mfi1.webp
END:VEVENT
BEGIN:VEVENT
DTSTART;VALUE=DATE:20250921
DTEND;VALUE=DATE:20250922
DTSTAMP:20260422T123138
CREATED:20230626T114550Z
LAST-MODIFIED:20241209T155627Z
UID:10000251-1758412800-1758499199@kjmk.de
SUMMARY:Weltkindertag
DESCRIPTION:Der diesjährige Weltkindertag am 20. September findet unter dem Motto „Jedes Kind braucht eine Zukunft!“ statt. Das Deutsche Kinderhilfswerk wird dieses wichtige Datum den ganzen September über mit einem digitalen Kinderrechte-Spezial auf www.kindersache.de feiern – der Seite für Kinder. Außerdem wird es wie in den letzten Jahren wieder gemeinsam mit UNICEF Deutschland eine pressewirksame Aktion mit Kindern und Jugendlichen geben\, die auf die Kinderrechte aufmerksam macht. \nDenn Kinderinteressen werden in der Politik nach wie vor an vielen Stellen systematisch ausgeblendet. Deswegen braucht es dringend die Verankerung von Kinderrechten im Grundgesetz\, eine aktive Politik zur Überwindung der Kinderarmut in Deutschland sowie eine deutliche Stärkung der demokratischen Beteiligungsmöglichkeiten von Kindern und Jugendlichen.
URL:https://kjmk.de/event/weltkindertag/
LOCATION:Deutschlandweit
CATEGORIES:Events für Kinder und Jugendliche
ATTACH;FMTTYPE=image/webp:https://kjmk.de/wp-content/uploads/Q_photocase_3176233_coscaron.webp
END:VEVENT
BEGIN:VEVENT
DTSTART;VALUE=DATE:20250708
DTEND;VALUE=DATE:20250709
DTSTAMP:20260422T123138
CREATED:20230626T084502Z
LAST-MODIFIED:20241209T155442Z
UID:10000248-1751932800-1752019199@kjmk.de
SUMMARY:Sei noch einmal Kind Tag
DESCRIPTION:Wer möchte nicht noch einmal Kind sein?\nAm 8. Juli wird dazu aufgerufen\, das Erwachsensein für einen Moment zu vergessen und den “Sei noch einmal Kind”-Tag zu feiern.
URL:https://kjmk.de/event/sei-noch-einmal-kind-tag/
LOCATION:Deutschlandweit
CATEGORIES:Events für Kinder und Jugendliche
ATTACH;FMTTYPE=image/webp:https://kjmk.de/wp-content/uploads/Q_photocase_3843069.webp
END:VEVENT
END:VCALENDAR