BEGIN:VCALENDAR
VERSION:2.0
PRODID:-//Kinder &amp; Jugend Marketing Kontor - ECPv6.15.20//NONSGML v1.0//EN
CALSCALE:GREGORIAN
METHOD:PUBLISH
X-WR-CALNAME:Kinder &amp; Jugend Marketing Kontor
X-ORIGINAL-URL:https://kjmk.de
X-WR-CALDESC:Veranstaltungen für Kinder &amp; Jugend Marketing Kontor
REFRESH-INTERVAL;VALUE=DURATION:PT1H
X-Robots-Tag:noindex
X-PUBLISHED-TTL:PT1H
BEGIN:VTIMEZONE
TZID:Europe/Berlin
BEGIN:DAYLIGHT
TZOFFSETFROM:+0100
TZOFFSETTO:+0200
TZNAME:CEST
DTSTART:20240331T010000
END:DAYLIGHT
BEGIN:STANDARD
TZOFFSETFROM:+0200
TZOFFSETTO:+0100
TZNAME:CET
DTSTART:20241027T010000
END:STANDARD
BEGIN:DAYLIGHT
TZOFFSETFROM:+0100
TZOFFSETTO:+0200
TZNAME:CEST
DTSTART:20250330T010000
END:DAYLIGHT
BEGIN:STANDARD
TZOFFSETFROM:+0200
TZOFFSETTO:+0100
TZNAME:CET
DTSTART:20251026T010000
END:STANDARD
BEGIN:DAYLIGHT
TZOFFSETFROM:+0100
TZOFFSETTO:+0200
TZNAME:CEST
DTSTART:20260329T010000
END:DAYLIGHT
BEGIN:STANDARD
TZOFFSETFROM:+0200
TZOFFSETTO:+0100
TZNAME:CET
DTSTART:20261025T010000
END:STANDARD
END:VTIMEZONE
BEGIN:VEVENT
DTSTART;TZID=Europe/Berlin:20251110T090000
DTEND;TZID=Europe/Berlin:20251111T130000
DTSTAMP:20260422T140509
CREATED:20250212T091053Z
LAST-MODIFIED:20250703T080906Z
UID:10000308-1762765200-1762866000@kjmk.de
SUMMARY:Konferenz Wald & Jugend
DESCRIPTION:Die Schutzgemeinschaft Deutscher Wald veranstaltet eine zweitägige Konferenz\, die Akteur:innen in der Waldpädagogik und Umweltbildung\, einlädt zu erfahren\, wie Jugendliche und junge Erwachsene für den Wald und nachhaltiges Engagement begeistert werden können. \nCarola ist auf der Konferenz mit einem Vortrag und im Rahmen eines Workshops dabei und und wird den Teilnehmenden aufzeigen\, welche wichtige Rolle eine gute Kommunikation spielt und wie man Engagement neu denken sollte! \nDie Anmeldung zur Konferenz ist offen für Waldpädagog:innen\, Umweltbildner:innen\, Multiplizierende und Fachkräfte aus der Jugendarbeit\, die das Thema Wald stärker in ihre Arbeit einbinden wollen.
URL:https://kjmk.de/event/konferenz-wald-jugend/
LOCATION:Tagungshaus Himmelspforten\, Mainaustraße 42\, Würzburg\, 97082
CATEGORIES:Kongresse und Tagungen
ATTACH;FMTTYPE=image/png:https://kjmk.de/wp-content/uploads/Wald_und_Jugend.png
END:VEVENT
END:VCALENDAR