BEGIN:VCALENDAR
VERSION:2.0
PRODID:-//Kinder &amp; Jugend Marketing Kontor - ECPv6.15.20//NONSGML v1.0//EN
CALSCALE:GREGORIAN
METHOD:PUBLISH
X-WR-CALNAME:Kinder &amp; Jugend Marketing Kontor
X-ORIGINAL-URL:https://kjmk.de
X-WR-CALDESC:Veranstaltungen für Kinder &amp; Jugend Marketing Kontor
REFRESH-INTERVAL;VALUE=DURATION:PT1H
X-Robots-Tag:noindex
X-PUBLISHED-TTL:PT1H
BEGIN:VTIMEZONE
TZID:Europe/Berlin
BEGIN:DAYLIGHT
TZOFFSETFROM:+0100
TZOFFSETTO:+0200
TZNAME:CEST
DTSTART:20240331T010000
END:DAYLIGHT
BEGIN:STANDARD
TZOFFSETFROM:+0200
TZOFFSETTO:+0100
TZNAME:CET
DTSTART:20241027T010000
END:STANDARD
BEGIN:DAYLIGHT
TZOFFSETFROM:+0100
TZOFFSETTO:+0200
TZNAME:CEST
DTSTART:20250330T010000
END:DAYLIGHT
BEGIN:STANDARD
TZOFFSETFROM:+0200
TZOFFSETTO:+0100
TZNAME:CET
DTSTART:20251026T010000
END:STANDARD
BEGIN:DAYLIGHT
TZOFFSETFROM:+0100
TZOFFSETTO:+0200
TZNAME:CEST
DTSTART:20260329T010000
END:DAYLIGHT
BEGIN:STANDARD
TZOFFSETFROM:+0200
TZOFFSETTO:+0100
TZNAME:CET
DTSTART:20261025T010000
END:STANDARD
END:VTIMEZONE
BEGIN:VEVENT
DTSTART;VALUE=DATE:20251118
DTEND;VALUE=DATE:20251120
DTSTAMP:20260424T135505
CREATED:20250703T111611Z
LAST-MODIFIED:20250703T111617Z
UID:10000318-1763424000-1763596799@kjmk.de
SUMMARY:Gen Z als Spendende der Zukunft
DESCRIPTION:Fundraising bei der Generation Z\n  \n			\n				\n				\n				\n				\n				\n			\n			\n				\n				\n				\n				\n			\n				\n				\n				\n				\n				\n				\n				\n				\n				\n				\n				Die Generation Z stellt Fundraiser:innen vor neue Herausforderungen – und bietet zugleich enorme Chancen. \nDiese Generation wächst mit digitalen Medien auf\, legt großen Wert auf Authentizität und erwartet von Organisationen klare Werte sowie Transparenz. \nDoch wie erreicht man diese Zielgruppe effektiv und baut eine langfristige Spendenbindung auf? \nIn diesem Intensivseminar lernen Sie\, wie Sie Ihre Fundraising-Strategien anpassen\, um junge Menschen erfolgreich anzusprechen. Dabei liegt der Fokus auf praxisorientierten Ansätzen und aktuellen Studien\, die Ihnen zeigen\, wie Sie auf die Bedürfnisse und Erwartungen dieser jungen Spendengeneration eingehen können. \n			\n			\n				\n				\n				\n				\n				\n				\n				\n				\n				\n				\n			\n			\n				\n				\n				\n				\n			\n				\n				\n				\n				\n				\n				\n				\n				\n				\n				\n				Das Online Seminar ist in sechs Module aufgeteilt:\nModul 1: Wer ist die Generation Z?In diesem Modul lernen Sie die Charakteristika\, Werte und Erwartungen junger Menschen kennen. Wir analysieren\, was diese Generation von anderen unterscheidet\, und besprechen\, welche Faktoren für die GenZ wichtig sind\, wenn sie spenden oder Organisationan auf andere Arten unterstützen. \nModul 2: Fundraising bei der GenZWir schauen uns gemeinsam an\, was Organisationen von jungen Frauen und Männern erwarten können. Fundraising bei der GenZ funktioniert nicht mehr mit den jahrzehntelang erprobten Methoden sondern braucht neue Methoden und Ansätze\, die den gesellschaftlichen Veränderungen Rechnung tragen. \nModul 3: Wertvolles Engagement junger Menschen: Zeit und ReichweiteFundraiser sollten mehr als Geld im Blick haben: Im Seminar werden Sie dafür sensibilisiert\, (junges) Engagement als wertvolle Ressource zu sehen. Sie lernen Ansätze kennen\, Engagement und seine Wirkung monetär zu bewerten und gezielt zu nutzen. \nModul 4: Werteorientiertes Fundraising & KernbotschaftenNachhaltigkeit\, Diversität und soziale Gerechtigkeit sind zentrale Themen für die GenZ. Wir analysieren\, wie Sie Ihre Organisation auf diese Werte ausrichten und diese authentisch kommunizieren können\, um das Vertrauen der Generation Z zu gewinnen. Wir zeigen\, wie Sie zentrale Narrative entwickeln und in Herzen und Köpfe junger Menschen gelangen. \nModul 5: In die Lebenswelten junger Generationen gelangenDie junge Generation ist „always on“. In diesem Modul erfahren Sie\, welche Social Media Kanäle relevant sind\, wie sich Organisationen dort gut präsentieren können\, um ihre Zielgruppen zu erreichen. Sie lernen\, welche weiteren Kanäle sinnvoll sein können und wie Sie ganzheitlich kommunizieren – auch im Zusammenspiel mit der Kommunikation für ältere Spender:innen. \nModul 6: Langfristige Bindung und Community-AufbauIn diesem abschließenden Modul betrachten wir\, wie Sie trotz der Tendenz zu Unverbindlichkeit langfristige Bindungen aufbauen und junge Menschen auf Jahrzehnte als Unterstützer:innen gewinnen. Wir zeigen\, wie Sie eine Community aufbauen und Zugehörigkeitsgefühl schaffen. \n  \n			\n				\n				\n				\n				\n				\n			\n			\n				\n				\n				\n				\n			\n				\n				\n				\n				\n				\n				\n				\n				\n				\n				\n				\n			\n			\n				\n				\n				\n				\n				\n				\n				\n				\n				\n				Die MUNICH FUNDRAISING SCHOOL und das Kinder & Jugend Marketing Kontor veranstalten dieses Seminar gemeinsam. \nDie Referentin Carola Laun ist die Expertin\, wenn es um verantwortungsvolles Kinder- und Jugendmarketing geht und bringt Erfahrung aus unzähligen Projekten mit! \n			\n				Alle Infos & Anmeldung
URL:https://kjmk.de/event/mfs-intensivseminar/
LOCATION:Munich Fundraising School | Online
CATEGORIES:KJMK-Seminare,Online-Veranstaltung,Seminarpartnerschaften
ATTACH;FMTTYPE=image/png:https://kjmk.de/wp-content/uploads/MFS_IntensivSeminar.png
ORGANIZER;CN="Munich Fundraising School":MAILTO:info@munichfundraising.school
END:VEVENT
BEGIN:VEVENT
DTSTART;TZID=Europe/Berlin:20251028T150000
DTEND;TZID=Europe/Berlin:20251028T160000
DTSTAMP:20260424T135505
CREATED:20250703T122102Z
LAST-MODIFIED:20250703T122140Z
UID:10000320-1761663600-1761667200@kjmk.de
SUMMARY:Markenbildung und Identifikation
DESCRIPTION:Wie NGOs zur Love Brand für junge Menschen werden\n  \n			\n				\n				\n				\n				\n				\n			\n			\n				\n				\n				\n				\n			\n				\n				\n				\n				\n				\n				\n				\n				\n				\n				\n				Junge Menschen folgen nicht einfach nur einer Organisation – sie wollen sich mit ihr identifizieren und gemeinsam etwas bewegen. \nWas NGOs brauchen\, ist mehr als eine gute Sache: Sie brauchen eine starke Marke\, die Haltung zeigt\, Nähe erzeugt und relevant bleibt – digital wie analog. Nur so wird aus einer NGO eine sogenannte Love Brand – also eine Marke\, die junge Menschen begeistert\, die sie unterstützen und weiter empfehlen. \nIn diesem 90-minütigen Webinar werfen wir einen fundierten und praxisnahen Blick auf die Erfolgsfaktoren jugendaffiner Markenbildung im Non-Profit-Bereich. \n			\n			\n				\n				\n				\n				\n				\n				\n				\n				\n				\n				\n			\n			\n				\n				\n				\n				\n			\n				\n				\n				\n				\n				\n				\n				\n				\n				\n				\n				Inhalte\n\nWas macht eine „Love Brand“ für junge Menschen aus?\nEmotionale Markenbindung: Warum Werte\, Sprache und Stil entscheidend sind\nMarkenführung in Social Media: Sichtbar sein\, ohne austauschbar zu wirken\nPraxisbeispiele: Wie Organisationen heute bereits erfolgreich Identifikation erzeugen\nDo’s & Don’ts: Häufige Fehler und wie man sie vermeidet\n\n			\n				\n				\n				\n				\n				\n			\n			\n				\n				\n				\n				\n			\n				\n				\n				\n				\n				\n				\n				\n				\n				\n				\n				\n			\n			\n				\n				\n				\n				\n				\n				\n				\n				\n				\n				Die MUNICH FUNDRAISING SCHOOL und das Kinder & Jugend Marketing Kontor veranstalten dieses Seminar gemeinsam. \nDie Referentin Carola Laun ist die Expertin\, wenn es um verantwortungsvolles Kinder- und Jugendmarketing geht und bringt Erfahrung aus unzähligen Projekten mit! \n			\n				Alle Infos & Anmeldung
URL:https://kjmk.de/event/markenbildung-und-identifikation/
LOCATION:Munich Fundraising School | Online
CATEGORIES:KJMK-Seminare,Online-Veranstaltung,Seminarpartnerschaften
ATTACH;FMTTYPE=image/png:https://kjmk.de/wp-content/uploads/MFS_LoveBrands.png
ORGANIZER;CN="Munich Fundraising School":MAILTO:info@munichfundraising.school
END:VEVENT
BEGIN:VEVENT
DTSTART;TZID=Europe/Berlin:20251008T150000
DTEND;TZID=Europe/Berlin:20251008T154500
DTSTAMP:20260424T135505
CREATED:20250703T121216Z
LAST-MODIFIED:20250703T122352Z
UID:10000319-1759935600-1759938300@kjmk.de
SUMMARY:Zwischen TikTok und Treue
DESCRIPTION:Wie junge Menschen NGOs wahrnehmen – und wie wir reagieren sollten\n  \n			\n				\n				\n				\n				\n				\n			\n			\n				\n				\n				\n				\n			\n				\n				\n				\n				\n				\n				\n				\n				\n				\n				\n				Warum haben so viele Organisationen Probleme\, junge Zielgruppen zu erreichen? \nDie Generations Z & Alpha sind engagiert\, informiert – und gleichzeitig herausfordernd für viele NGOs. Zwischen kurzen TikTok-Videos und tiefem Wertebewusstsein suchen junge Menschen nach Organisationen\, die echt sind\, Haltung zeigen und digital präsent sind. \nDoch wie genau nehmen sie NGOs heute wahr? Und was bedeutet das für unsere Kommunikation\, unser Fundraising und unsere Präsenz in sozialen Medien? \nIn diesem kostenlosen Webinar geben wir einen kompakten Überblick über aktuelle Trends und Erwartungen junger Zielgruppen. Wir zeigen\, wie sich klassische NGO-Kommunikation verändert – und warum es sich lohnt\, auf Augenhöhe zu kommunizieren. \n			\n			\n				\n				\n				\n				\n				\n				\n				\n				\n				\n				\n			\n			\n				\n				\n				\n				\n			\n				\n				\n				\n				\n				\n				\n				\n				\n				\n				\n				\n			\n			\n				\n				\n				\n				\n				\n				\n				\n				\n				\n				Die MUNICH FUNDRAISING SCHOOL und das Kinder & Jugend Marketing Kontor veranstalten dieses Webinar gemeinsam. \nFundraising-Experting Dr. Eva Wieners & Jugendmarketing-Spezialistin Carola Laun zeigen\, warum NGOs sich jetzt um junge Zielgruppen kümmern sollten! \n			\n				Alle Infos & Anmeldung
URL:https://kjmk.de/event/zwischen-tiktok-und-treue/
LOCATION:Munich Fundraising School | Online
CATEGORIES:Kostenfreie Seminare,Online-Veranstaltung,Seminarpartnerschaften
ATTACH;FMTTYPE=image/png:https://kjmk.de/wp-content/uploads/MFS_TikTok_Teaseer.png
ORGANIZER;CN="Munich Fundraising School":MAILTO:info@munichfundraising.school
END:VEVENT
END:VCALENDAR