BEGIN:VCALENDAR
VERSION:2.0
PRODID:-//Kinder &amp; Jugend Marketing Kontor - ECPv6.15.20//NONSGML v1.0//EN
CALSCALE:GREGORIAN
METHOD:PUBLISH
X-WR-CALNAME:Kinder &amp; Jugend Marketing Kontor
X-ORIGINAL-URL:https://kjmk.de
X-WR-CALDESC:Veranstaltungen für Kinder &amp; Jugend Marketing Kontor
REFRESH-INTERVAL;VALUE=DURATION:PT1H
X-Robots-Tag:noindex
X-PUBLISHED-TTL:PT1H
BEGIN:VTIMEZONE
TZID:Europe/Berlin
BEGIN:DAYLIGHT
TZOFFSETFROM:+0100
TZOFFSETTO:+0200
TZNAME:CEST
DTSTART:20240331T010000
END:DAYLIGHT
BEGIN:STANDARD
TZOFFSETFROM:+0200
TZOFFSETTO:+0100
TZNAME:CET
DTSTART:20241027T010000
END:STANDARD
BEGIN:DAYLIGHT
TZOFFSETFROM:+0100
TZOFFSETTO:+0200
TZNAME:CEST
DTSTART:20250330T010000
END:DAYLIGHT
BEGIN:STANDARD
TZOFFSETFROM:+0200
TZOFFSETTO:+0100
TZNAME:CET
DTSTART:20251026T010000
END:STANDARD
BEGIN:DAYLIGHT
TZOFFSETFROM:+0100
TZOFFSETTO:+0200
TZNAME:CEST
DTSTART:20260329T010000
END:DAYLIGHT
BEGIN:STANDARD
TZOFFSETFROM:+0200
TZOFFSETTO:+0100
TZNAME:CET
DTSTART:20261025T010000
END:STANDARD
END:VTIMEZONE
BEGIN:VEVENT
DTSTART;VALUE=DATE:20250528
DTEND;VALUE=DATE:20250529
DTSTAMP:20260422T154333
CREATED:20231219T121918Z
LAST-MODIFIED:20240619T091548Z
UID:10000239-1748390400-1748476799@kjmk.de
SUMMARY:Internationaler Weltspieletag
DESCRIPTION:Der internationale Weltspieltag ist eine Initiative der 1961 gegründeten International Play Association. Der Weltspieltag soll auf das Kinderrecht auf freies Spiel aufmerksam machen.\nDas Deutsche Kinderhilfswerk will sich gemeinsam mit seinen Partner:innen im „Bündnis Recht auf Spiel“ dafür engagieren \, dass die Bedingungen für das freie Spiel von Kindern verbessert werden. \nAm Weltspieltag finden in großen Städten und an vielen anderen Orten Aktionen und Events statt\, die das freie Spiel in den Mittelpunkt rücken.
URL:https://kjmk.de/event/internationaler-weltspieletag/
CATEGORIES:Events für Kinder und Jugendliche
ATTACH;FMTTYPE=image/webp:https://kjmk.de/wp-content/uploads/Q-young-girl-1246180pixabay.webp
END:VEVENT
END:VCALENDAR